BEGIN:VCALENDAR
VERSION:2.0
PRODID:-//IP.Board Calendar 4.4.10//EN
METHOD:PUBLISH
CALSCALE:GREGORIAN
X-WR-CALNAME:Срещи
BEGIN:VTIMEZONE
TZID:Europe/London
TZURL:http://tzurl.org/zoneinfo/Europe/London
X-LIC-LOCATION:Europe/London
BEGIN:DAYLIGHT
TZOFFSETFROM:+0000
TZOFFSETTO:+0100
TZNAME:BST
DTSTART:20200329T020000Z
RRULE:FREQ=YEARLY;BYMONTH=3;BYDAY=-1SU
END:DAYLIGHT
BEGIN:STANDARD
TZOFFSETFROM:+0100
TZOFFSETTO:+0000
TZNAME:GMT
DTSTART:20201025T020000Z
RRULE:FREQ=YEARLY;BYMONTH=10;BYDAY=-1SU
END:STANDARD
END:VTIMEZONE
BEGIN:VEVENT
SUMMARY:Национална Акорд среща в Търново
DTSTAMP:20200825T071118Z
SEQUENCE:0
UID:30-2-1db9dc722586cd1a8f08fc34c37a5f90@forums.hondabg.com
ORGANIZER;CN="Pavel_Pavlov":info@hondabg.com
DESCRIPTION:\n	Поредната 
	месечна среща този път 
	ще е по-мащабна и в централна България.\n
	\n\n\n	 \n\n\n\n	\n\n\n\n	 \n\n\n\n	Дата: 12-09-2020\, с
	ъбота\n\n\n\n	Място: около Вели
	ко Търново\n\n\n\n	 \n\n\n
	\n	Дотук има д
	оста желаещи
	 да се присъед
	инят от цяла Бъл
	гария. Някои кол
	еги ще преспиват в
	 Арбанаси\, така че
	 и това е възможност
	. Моля\, aко някой ис
	ка да се присъед
	ини\, да ми пи
	ше на лично
	 или да се
	 присъеди
	ни към Фе
	йсбук съ
	битието:
	 „Всички Акорди
	 заедно“. Срещата е организир
	ана от фейсбук групата Accord 
	Team Bulgaria и всички са добре
	 дошли. Включително и не-Акорди 😆.\n\
	n\n\n	 \n\n\n\n	Програма:\n\n\n\n	12.09.2020 (Събота)\n
	\n\n\n	11:30 - Начало (паркинг на ресторант RAYA 
	Garden)\n\n\n\n	11:35 - Оглед на 
	автомобилите\, запознанств
	а с колегите и снимки\n\n\n\n	13:30 - Обяд 
	в ресторант RAYA Garden\n\n\n\n	15:30 
	- Тръгване към летище Павли
	кени\n\n\n\n	16:00 - Снимки на и около 
	пистата\n\n\n\n	17:30 - Тръгване към В. Търн
	ово\n\n\n\n	18:00 - Край\n\n\n\n	\n\n	За
	 колегите със заявена нощувка:
	\n\n\n\n	18:00 - Тръгване към Арбанас
	и\n\n\n\n	18:20 - Настаняване в „Ко
	мплекс Извора“\n\n\n\n	18:30 - Свобод
	на програма\n\n\n\n	20:00 - Вечеря в меха
	ната на хотела\n\n\n\n	\n\n	13.09.2020 (Неделя)\n
	\n\n\n	09:00 - Закуска\n\n\n\n	10:20 - Освобож
	даване на хотела\n\n\n\n	10:30 - Тръгв
	ане към Шипка\n\n\n\n	11:30 - Снимки на Ш
	ипка\n\n\n\n	12:30 - Обяд (в някое о
	т близките заведения)\n\n\n\n
		ХХ:ХХч - Край (всеки когато прецени)\n\n\n\n
		 \n\n\n\n	 \n\n
DTSTART;VALUE=DATE:20200912
END:VEVENT
END:VCALENDAR
