BEGIN:VCALENDAR
VERSION:2.0
PRODID:-//IP.Board Calendar 4.4.10//EN
METHOD:PUBLISH
CALSCALE:GREGORIAN
X-WR-CALNAME:Срещи
BEGIN:VTIMEZONE
TZID:Europe/London
TZURL:http://tzurl.org/zoneinfo/Europe/London
X-LIC-LOCATION:Europe/London
BEGIN:DAYLIGHT
TZOFFSETFROM:+0000
TZOFFSETTO:+0100
TZNAME:BST
DTSTART:20200329T020000Z
RRULE:FREQ=YEARLY;BYMONTH=3;BYDAY=-1SU
END:DAYLIGHT
BEGIN:STANDARD
TZOFFSETFROM:+0100
TZOFFSETTO:+0000
TZNAME:GMT
DTSTART:20201025T020000Z
RRULE:FREQ=YEARLY;BYMONTH=10;BYDAY=-1SU
END:STANDARD
END:VTIMEZONE
BEGIN:VEVENT
SUMMARY:Месечна Акорд среща
DTSTAMP:20200810T071032Z
SEQUENCE:0
UID:29-2-1db9dc722586cd1a8f08fc34c37a5f90@forums.hondabg.com
ORGANIZER;CN="Pavel_Pavlov":info@hondabg.com
DESCRIPTION:\n	\n\n\n\n	 \n\n\n\n	Поред
	ната среща на Акорд
	ите в София ще се пров
	еде на 16-ти август (неделя) от 18
	:00 на улицата пред НИМ.\n\n\n\
	n	 \n\n\n\n	Всеки\, който же
	лае да присъства\, е повече от до
	бре дошъл.\n\n\n\n	 \n\n\n\n	Локация:\n\n\n\n	42.656072\, 
	23.274396\n\n\n\n	https://goo.gl/maps/bFUBnHz9c6NHBQAt6\n\n
DTSTART:20200816T170000Z
END:VEVENT
END:VCALENDAR
