BEGIN:VCALENDAR
VERSION:2.0
PRODID:-//IP.Board Calendar 4.4.10//EN
METHOD:PUBLISH
CALSCALE:GREGORIAN
X-WR-CALNAME:Срещи
BEGIN:VTIMEZONE
TZID:Europe/London
TZURL:http://tzurl.org/zoneinfo/Europe/London
X-LIC-LOCATION:Europe/London
BEGIN:DAYLIGHT
TZOFFSETFROM:+0000
TZOFFSETTO:+0100
TZNAME:BST
DTSTART:20200329T020000Z
RRULE:FREQ=YEARLY;BYMONTH=3;BYDAY=-1SU
END:DAYLIGHT
BEGIN:STANDARD
TZOFFSETFROM:+0100
TZOFFSETTO:+0000
TZNAME:GMT
DTSTART:20201025T020000Z
RRULE:FREQ=YEARLY;BYMONTH=10;BYDAY=-1SU
END:STANDARD
END:VTIMEZONE
BEGIN:VEVENT
SUMMARY:Хонда Акорд среща София
DTSTAMP:20200709T064420Z
SEQUENCE:0
UID:27-2-1db9dc722586cd1a8f08fc34c37a5f90@forums.hondabg.com
ORGANIZER;CN="Pavel_Pavlov":info@hondabg.com
DESCRIPTION:\n	Поредната сре
	ща на Акордите в София 
	ще се проведе на 12-ти 
	юни (неделя) от 18 ча
	са на улицата пред НИМ. 
	Който желае да присъства\, е добре дошъл.\
	n\n\n\n	https://www.facebook.com/events/197964874973886/\n\n\n\n	 \n\n\n\
	n	 \n\n
DTSTART:20200712T150000Z
END:VEVENT
END:VCALENDAR
